BEGIN:VCALENDAR
VERSION:2.0
PRODID:SchoolNow
CALSCALE:GREGORIAN
BEGIN:VEVENT
UID:f760b8b0-2ed6-11f1-ba4f-02064e9413eb
DTSTAMP:20260421T090253Z
SUMMARY:PTA Meeting 4:15 PM
URL;VALUE=URI:https://www.uticaschools.org/schools/jones/calendar/8966743/p
 ta-meeting-4-15-pm
DTSTART;VALUE=DATE:20260415
DTEND;VALUE=DATE:20260416
END:VEVENT
END:VCALENDAR
