BEGIN:VCALENDAR
VERSION:2.0
PRODID:SchoolNow
CALSCALE:GREGORIAN
BEGIN:VEVENT
UID:0377be04-2e0b-11f1-9a6b-0a58a9feac02
DTSTAMP:20260421T090253Z
SUMMARY:No School-Unused Snow Day
URL;VALUE=URI:https://www.uticaschools.org/schools/jones/calendar/8964063/n
 o-school-unused-snow-day
DTSTART;VALUE=DATE:20260413
DTEND;VALUE=DATE:20260414
END:VEVENT
END:VCALENDAR
