BEGIN:VCALENDAR
VERSION:2.0
PRODID:SchoolNow
CALSCALE:GREGORIAN
BEGIN:VEVENT
UID:fc0e31fa-217d-11f1-aece-0a58a9feac02
DTSTAMP:20260330T195547Z
SUMMARY:AP Physics Exam
URL;VALUE=URI:https://www.uticaschools.org/departments/guidance-counseling-
 services/calendar/8923028/ap-physics-exam
DTSTART:20260506T160000Z
DTEND:20260506T190000Z
END:VEVENT
END:VCALENDAR
