BEGIN:VCALENDAR
VERSION:2.0
PRODID:SchoolNow
CALSCALE:GREGORIAN
BEGIN:VEVENT
UID:36c04d94-dd8f-11ef-b539-0e956362e35d
DTSTAMP:20250128T154744Z
SUMMARY:Girls Varsity Bowling v. TBD
URL;VALUE=URI:https://www.uticaschools.org/departments/athletics/calendar/7
 388214/girls-varsity-bowling-v-tbd
DTSTART:20250209T140000Z
DTEND:20250209T150000Z
END:VEVENT
END:VCALENDAR
