BEGIN:VCALENDAR
VERSION:2.0
PRODID:SchoolNow
CALSCALE:GREGORIAN
BEGIN:VEVENT
UID:36c03b4c-dd8f-11ef-98d1-0e956362e35d
DTSTAMP:20250128T154744Z
SUMMARY:Girls Junior Varsity Basketball v. Nottingham
LOCATION:PHS Main Gym
URL;VALUE=URI:https://www.uticaschools.org/departments/athletics/calendar/7
 388205/girls-junior-varsity-basketball-v-nottingham
DTSTART:20250125T160000Z
DTEND:20250125T170000Z
END:VEVENT
END:VCALENDAR
