BEGIN:VCALENDAR
VERSION:2.0
PRODID:SchoolNow
CALSCALE:GREGORIAN
BEGIN:VEVENT
UID:36c02440-dd8f-11ef-b702-0e956362e35d
DTSTAMP:20250128T154744Z
SUMMARY:Boys Varsity Bowling v. TBD
URL;VALUE=URI:https://www.uticaschools.org/departments/athletics/calendar/7
 388192/boys-varsity-bowling-v-tbd
DTSTART:20250228T170000Z
DTEND:20250228T180000Z
END:VEVENT
END:VCALENDAR
