BEGIN:VCALENDAR
VERSION:2.0
PRODID:SchoolNow
CALSCALE:GREGORIAN
BEGIN:VEVENT
UID:36c01c3e-dd8f-11ef-93f3-0e956362e35d
DTSTAMP:20250128T154744Z
SUMMARY:Boys Varsity Wrestling Cicero-North Syracuse\, Liverpool\, West Gen
 esee\, Syracuse City (Syracuse City)\, Rome Free Academy\, Fayetteville-Ma
 nlius\, Baldwinsville @ Jamesville-Dewitt (JD/CBA/Solvay)
LOCATION:JD HS Main Gym
URL;VALUE=URI:https://www.uticaschools.org/departments/athletics/calendar/7
 388189/boys-varsity-wrestling-cicero-north-syracuse-liverpool-west-genesee
 -syracuse-city-syracuse-city-rome-free-academy-fayetteville-manlius-baldwi
 nsville-jamesville-dewitt-jd-cba-solvay
DTSTART:20250208T140000Z
DTEND:20250209T000000Z
END:VEVENT
END:VCALENDAR
