BEGIN:VCALENDAR
VERSION:2.0
PRODID:SchoolNow
CALSCALE:GREGORIAN
BEGIN:VEVENT
UID:36bfd936-dd8f-11ef-9f1c-0e956362e35d
DTSTAMP:20250128T154744Z
SUMMARY:POSTPONED: Girls (Combined) Varsity Ice Hockey @ Canton
LOCATION:Canton Pavilion Ice Rink
URL;VALUE=URI:https://www.uticaschools.org/departments/athletics/calendar/7
 388151/postponed-girls-combined-varsity-ice-hockey-canton
DTSTART:20250103T050000Z
DTEND:20250103T060000Z
END:VEVENT
END:VCALENDAR
