BEGIN:VCALENDAR
VERSION:2.0
PRODID:SchoolNow
CALSCALE:GREGORIAN
BEGIN:VEVENT
UID:3337ec0e-dd8f-11ef-b3c4-0e956362e35d
DTSTAMP:20250128T154738Z
SUMMARY:(B) V Basketball - Practice (10:30 AM)
LOCATION:PHS Main Gym
URL;VALUE=URI:https://www.uticaschools.org/departments/athletics/calendar/7
 387471/b-v-basketball-practice-10-30-am
DTSTART:20250118T153000Z
DTEND:20250118T170000Z
END:VEVENT
END:VCALENDAR
