BEGIN:VCALENDAR
VERSION:2.0
PRODID:SchoolNow
CALSCALE:GREGORIAN
BEGIN:VEVENT
UID:32578fec-dd8f-11ef-8e37-0e956362e35d
DTSTAMP:20250128T154736Z
SUMMARY:(G) V Winter Track - Practice (3:00 PM)
LOCATION:MVCC Field House
URL;VALUE=URI:https://www.uticaschools.org/departments/athletics/calendar/7
 387321/g-v-winter-track-practice-3-00-pm
DTSTART:20250123T200000Z
DTEND:20250123T220000Z
END:VEVENT
END:VCALENDAR
