BEGIN:VCALENDAR
VERSION:2.0
PRODID:SchoolNow
CALSCALE:GREGORIAN
BEGIN:VEVENT
UID:31e6c26c-dd8f-11ef-80d2-0e956362e35d
DTSTAMP:20250128T154735Z
SUMMARY:Boys Varsity Wrestling @ TBD
URL;VALUE=URI:https://www.uticaschools.org/departments/athletics/calendar/7
 387208/boys-varsity-wrestling-tbd
DTSTART:20250228T050000Z
DTEND:20250228T060000Z
END:VEVENT
END:VCALENDAR
