BEGIN:VCALENDAR
VERSION:2.0
PRODID:SchoolNow
CALSCALE:GREGORIAN
BEGIN:VEVENT
UID:31e6bfc4-dd8f-11ef-96d0-0e956362e35d
DTSTAMP:20250128T154735Z
SUMMARY:Boys Varsity Wrestling @ Central Valley Academy
LOCATION:CVA Main Gym
URL;VALUE=URI:https://www.uticaschools.org/departments/athletics/calendar/7
 387205/boys-varsity-wrestling-central-valley-academy
DTSTART:20250105T023000Z
DTEND:20250105T033000Z
END:VEVENT
END:VCALENDAR
