BEGIN:VCALENDAR
VERSION:2.0
PRODID:SchoolNow
CALSCALE:GREGORIAN
BEGIN:VEVENT
UID:317b38a8-dd8f-11ef-9b60-0e956362e35d
DTSTAMP:20250128T154735Z
SUMMARY:5th & 6th UCSD Cross Meet Rain date 10/10 @ Proctor Park (10:00 AM)
LOCATION:Proctor Park
URL;VALUE=URI:https://www.uticaschools.org/departments/athletics/calendar/7
 387040/5th-6th-ucsd-cross-meet-rain-date-10-10-proctor-park-10-00-am
DTSTART:20241009T140000Z
DTEND:20241009T150000Z
END:VEVENT
END:VCALENDAR
