BEGIN:VCALENDAR
VERSION:2.0
PRODID:SchoolNow
CALSCALE:GREGORIAN
BEGIN:VEVENT
UID:31129d48-dd8f-11ef-8c55-0e956362e35d
DTSTAMP:20250128T154734Z
SUMMARY:Boys Varsity Volleyball v. Rome Free Academy
LOCATION:PHS AUX Gym (Volleyball gym)
URL;VALUE=URI:https://www.uticaschools.org/departments/athletics/calendar/7
 386980/boys-varsity-volleyball-v-rome-free-academy
DTSTART:20250212T000000Z
DTEND:20250212T013000Z
END:VEVENT
END:VCALENDAR
