BEGIN:VCALENDAR
VERSION:2.0
PRODID:SchoolNow
CALSCALE:GREGORIAN
BEGIN:VEVENT
UID:31129690-dd8f-11ef-a07d-0e956362e35d
DTSTAMP:20250128T154734Z
SUMMARY:Boys Varsity Volleyball @ Canastota
LOCATION:Laidlaw Gym
URL;VALUE=URI:https://www.uticaschools.org/departments/athletics/calendar/7
 386973/boys-varsity-volleyball-canastota
DTSTART:20250115T000000Z
DTEND:20250115T013000Z
END:VEVENT
END:VCALENDAR
