BEGIN:VCALENDAR
VERSION:2.0
PRODID:SchoolNow
CALSCALE:GREGORIAN
BEGIN:VEVENT
UID:31128ef2-dd8f-11ef-a6cf-0e956362e35d
DTSTAMP:20250128T154734Z
SUMMARY:Girls (JFK) 7th/8th Basketball @ Camden
LOCATION:Camden Middle School Gym
URL;VALUE=URI:https://www.uticaschools.org/departments/athletics/calendar/7
 386969/girls-jfk-7th-8th-basketball-camden
DTSTART:20250203T211500Z
DTEND:20250203T221500Z
END:VEVENT
END:VCALENDAR
