BEGIN:VCALENDAR
VERSION:2.0
PRODID:SchoolNow
CALSCALE:GREGORIAN
BEGIN:VEVENT
UID:309ca502-dd8f-11ef-a219-0e956362e35d
DTSTAMP:20250128T154733Z
SUMMARY:Boys (DMS) 7th/8th Basketball v. New Hartford (Blue)
LOCATION:Donovan Gym
URL;VALUE=URI:https://www.uticaschools.org/departments/athletics/calendar/7
 386893/boys-dms-7th-8th-basketball-v-new-hartford-blue
DTSTART:20250114T210000Z
DTEND:20250114T220000Z
END:VEVENT
END:VCALENDAR
