BEGIN:VCALENDAR
VERSION:2.0
PRODID:SchoolNow
CALSCALE:GREGORIAN
BEGIN:VEVENT
UID:309c771c-dd8f-11ef-9b17-0e956362e35d
DTSTAMP:20250128T154733Z
SUMMARY:CANCELLED: Girls Junior Varsity Basketball v. Nottingham
LOCATION:PHS Main Gym
URL;VALUE=URI:https://www.uticaschools.org/departments/athletics/calendar/7
 386876/cancelled-girls-junior-varsity-basketball-v-nottingham
DTSTART:20250218T223000Z
DTEND:20250218T235500Z
END:VEVENT
END:VCALENDAR
