BEGIN:VCALENDAR
VERSION:2.0
PRODID:SchoolNow
CALSCALE:GREGORIAN
BEGIN:VEVENT
UID:2fbeef5a-dd8f-11ef-8372-0e956362e35d
DTSTAMP:20250128T154732Z
SUMMARY:Girls Varsity Bowling @ Holland Patent
LOCATION:King Pin Lanes
URL;VALUE=URI:https://www.uticaschools.org/departments/athletics/calendar/7
 386713/girls-varsity-bowling-holland-patent
DTSTART:20250115T210000Z
DTEND:20250115T220000Z
END:VEVENT
END:VCALENDAR
