BEGIN:VCALENDAR
VERSION:2.0
PRODID:SchoolNow
CALSCALE:GREGORIAN
BEGIN:VEVENT
UID:2f53f894-dd8f-11ef-af57-0e956362e35d
DTSTAMP:20250128T154731Z
SUMMARY:Clinton Cudos Swim Team @ PHS Swimming Pool (5:30 PM)
LOCATION:PHS Swimming Pool
URL;VALUE=URI:https://www.uticaschools.org/departments/athletics/calendar/7
 386624/clinton-cudos-swim-team-phs-swimming-pool-5-30-pm
DTSTART:20250207T223000Z
DTEND:20250208T003000Z
END:VEVENT
END:VCALENDAR
