BEGIN:VCALENDAR
VERSION:2.0
PRODID:SchoolNow
CALSCALE:GREGORIAN
BEGIN:VEVENT
UID:2ef2df14-dd8f-11ef-a869-0e956362e35d
DTSTAMP:20250128T154730Z
SUMMARY:Girls Junior Varsity Volleyball @ Vernon-Verona-Sherrill
LOCATION:VVS MS Gym
URL;VALUE=URI:https://www.uticaschools.org/departments/athletics/calendar/7
 386498/girls-junior-varsity-volleyball-vernon-verona-sherrill
DTSTART:20250116T223000Z
DTEND:20250116T233000Z
END:VEVENT
END:VCALENDAR
