BEGIN:VCALENDAR
VERSION:2.0
PRODID:SchoolNow
CALSCALE:GREGORIAN
BEGIN:VEVENT
UID:2dc63fe6-dd8f-11ef-b937-0e956362e35d
DTSTAMP:20250128T154728Z
SUMMARY:Girls Varsity Swimming/Diving @ Holland Patent
LOCATION:Holland Patent HS-Pool
URL;VALUE=URI:https://www.uticaschools.org/departments/athletics/calendar/7
 386154/girls-varsity-swimming-diving-holland-patent
DTSTART:20241010T210000Z
DTEND:20241010T230000Z
END:VEVENT
END:VCALENDAR
