BEGIN:VCALENDAR
VERSION:2.0
PRODID:SchoolNow
CALSCALE:GREGORIAN
BEGIN:VEVENT
UID:2d38e434-dd8f-11ef-970d-0e956362e35d
DTSTAMP:20250128T154728Z
SUMMARY:(B) JV Football - Practice (3:00 PM)
LOCATION:PHS Aux Gym ROTC  (small gym)
URL;VALUE=URI:https://www.uticaschools.org/departments/athletics/calendar/7
 386119/b-jv-football-practice-3-00-pm
DTSTART:20241004T190000Z
DTEND:20241004T213000Z
END:VEVENT
END:VCALENDAR
